BEGIN:VCALENDAR
VERSION:2.0
PRODID:-//Crabby Jack&#039;s - ECPv6.15.20//NONSGML v1.0//EN
CALSCALE:GREGORIAN
METHOD:PUBLISH
X-WR-CALNAME:Crabby Jack&#039;s
X-ORIGINAL-URL:https://crabbyjacksnj.com
X-WR-CALDESC:Events for Crabby Jack&#039;s
REFRESH-INTERVAL;VALUE=DURATION:PT1H
X-Robots-Tag:noindex
X-PUBLISHED-TTL:PT1H
BEGIN:VTIMEZONE
TZID:America/New_York
BEGIN:DAYLIGHT
TZOFFSETFROM:-0500
TZOFFSETTO:-0400
TZNAME:EDT
DTSTART:20240310T070000
END:DAYLIGHT
BEGIN:STANDARD
TZOFFSETFROM:-0400
TZOFFSETTO:-0500
TZNAME:EST
DTSTART:20241103T060000
END:STANDARD
BEGIN:DAYLIGHT
TZOFFSETFROM:-0500
TZOFFSETTO:-0400
TZNAME:EDT
DTSTART:20250309T070000
END:DAYLIGHT
BEGIN:STANDARD
TZOFFSETFROM:-0400
TZOFFSETTO:-0500
TZNAME:EST
DTSTART:20251102T060000
END:STANDARD
BEGIN:DAYLIGHT
TZOFFSETFROM:-0500
TZOFFSETTO:-0400
TZNAME:EDT
DTSTART:20260308T070000
END:DAYLIGHT
BEGIN:STANDARD
TZOFFSETFROM:-0400
TZOFFSETTO:-0500
TZNAME:EST
DTSTART:20261101T060000
END:STANDARD
END:VTIMEZONE
BEGIN:VEVENT
DTSTART;TZID=America/New_York:20250701T180000
DTEND;TZID=America/New_York:20250701T210000
DTSTAMP:20260421T182838
CREATED:20250403T220926Z
LAST-MODIFIED:20250403T220926Z
UID:658-1751392800-1751403600@crabbyjacksnj.com
SUMMARY:Sounds Of The Islands Steel Drums
DESCRIPTION:
URL:https://crabbyjacksnj.com/event/tropical-tuesday-steel-drums-4/
LOCATION:Crabby Jack’s\, 2 Broadway\, Somers Point\, NJ\, 08244
CATEGORIES:Live Music
END:VEVENT
BEGIN:VEVENT
DTSTART;TZID=America/New_York:20250630T180000
DTEND;TZID=America/New_York:20250630T210000
DTSTAMP:20260421T182838
CREATED:20250403T220912Z
LAST-MODIFIED:20250403T220912Z
UID:657-1751306400-1751317200@crabbyjacksnj.com
SUMMARY:Jeff X
DESCRIPTION:
URL:https://crabbyjacksnj.com/event/jeff-x-3/
LOCATION:Crabby Jack’s\, 2 Broadway\, Somers Point\, NJ\, 08244
CATEGORIES:Live Music
END:VEVENT
BEGIN:VEVENT
DTSTART;TZID=America/New_York:20250629T180000
DTEND;TZID=America/New_York:20250629T210000
DTSTAMP:20260421T182838
CREATED:20250403T220911Z
LAST-MODIFIED:20250618T205106Z
UID:656-1751220000-1751230800@crabbyjacksnj.com
SUMMARY:Glen Eric
DESCRIPTION:
URL:https://crabbyjacksnj.com/event/bob-mower-glen-eric-7/
LOCATION:Crabby Jack’s\, 2 Broadway\, Somers Point\, NJ\, 08244
CATEGORIES:Live Music
END:VEVENT
BEGIN:VEVENT
DTSTART;TZID=America/New_York:20250628T180000
DTEND;TZID=America/New_York:20250628T210000
DTSTAMP:20260421T182838
CREATED:20250403T220911Z
LAST-MODIFIED:20250403T220911Z
UID:655-1751133600-1751144400@crabbyjacksnj.com
SUMMARY:Jay Gentile
DESCRIPTION:
URL:https://crabbyjacksnj.com/event/jay-gentile/
LOCATION:Crabby Jack’s\, 2 Broadway\, Somers Point\, NJ\, 08244
CATEGORIES:Live Music
END:VEVENT
BEGIN:VEVENT
DTSTART;TZID=America/New_York:20250627T180000
DTEND;TZID=America/New_York:20250627T210000
DTSTAMP:20260421T182838
CREATED:20250403T220911Z
LAST-MODIFIED:20250403T220911Z
UID:654-1751047200-1751058000@crabbyjacksnj.com
SUMMARY:One Hot Mess
DESCRIPTION:
URL:https://crabbyjacksnj.com/event/one-hot-mess-13/
LOCATION:Crabby Jack’s\, 2 Broadway\, Somers Point\, NJ\, 08244
CATEGORIES:Live Music
END:VEVENT
BEGIN:VEVENT
DTSTART;TZID=America/New_York:20250626T180000
DTEND;TZID=America/New_York:20250626T210000
DTSTAMP:20260421T182838
CREATED:20250403T220911Z
LAST-MODIFIED:20250403T220911Z
UID:653-1750960800-1750971600@crabbyjacksnj.com
SUMMARY:Tommy Nic
DESCRIPTION:
URL:https://crabbyjacksnj.com/event/tommy-nic-3/
LOCATION:Crabby Jack’s\, 2 Broadway\, Somers Point\, NJ\, 08244
CATEGORIES:Live Music
END:VEVENT
BEGIN:VEVENT
DTSTART;TZID=America/New_York:20250625T180000
DTEND;TZID=America/New_York:20250625T210000
DTSTAMP:20260421T182838
CREATED:20250403T220856Z
LAST-MODIFIED:20250618T210357Z
UID:652-1750874400-1750885200@crabbyjacksnj.com
SUMMARY:Dead Reckoning Duo
DESCRIPTION:
URL:https://crabbyjacksnj.com/event/dead-reckoning-duo-2/
LOCATION:Crabby Jack’s\, 2 Broadway\, Somers Point\, NJ\, 08244
CATEGORIES:Live Music
END:VEVENT
BEGIN:VEVENT
DTSTART;TZID=America/New_York:20250624T180000
DTEND;TZID=America/New_York:20250624T210000
DTSTAMP:20260421T182838
CREATED:20250403T220856Z
LAST-MODIFIED:20250403T220856Z
UID:651-1750788000-1750798800@crabbyjacksnj.com
SUMMARY:Sounds Of The Islands Steel Drums
DESCRIPTION:
URL:https://crabbyjacksnj.com/event/tropical-tuesday-steel-drums-3/
LOCATION:Crabby Jack’s\, 2 Broadway\, Somers Point\, NJ\, 08244
CATEGORIES:Live Music
END:VEVENT
BEGIN:VEVENT
DTSTART;TZID=America/New_York:20250623T180000
DTEND;TZID=America/New_York:20250623T210000
DTSTAMP:20260421T182838
CREATED:20250403T220856Z
LAST-MODIFIED:20250403T220856Z
UID:650-1750701600-1750712400@crabbyjacksnj.com
SUMMARY:Jamie & The Quietmen
DESCRIPTION:
URL:https://crabbyjacksnj.com/event/jamie-the-quietmen-3/
LOCATION:Crabby Jack’s\, 2 Broadway\, Somers Point\, NJ\, 08244
CATEGORIES:Live Music
END:VEVENT
BEGIN:VEVENT
DTSTART;TZID=America/New_York:20250622T180000
DTEND;TZID=America/New_York:20250622T210000
DTSTAMP:20260421T182838
CREATED:20250403T220856Z
LAST-MODIFIED:20250618T205036Z
UID:649-1750615200-1750626000@crabbyjacksnj.com
SUMMARY:Glen Eric
DESCRIPTION:
URL:https://crabbyjacksnj.com/event/bob-mower-glen-eric-6/
LOCATION:Crabby Jack’s\, 2 Broadway\, Somers Point\, NJ\, 08244
CATEGORIES:Live Music
END:VEVENT
BEGIN:VEVENT
DTSTART;TZID=America/New_York:20250621T180000
DTEND;TZID=America/New_York:20250621T210000
DTSTAMP:20260421T182838
CREATED:20250403T220856Z
LAST-MODIFIED:20250403T220856Z
UID:648-1750528800-1750539600@crabbyjacksnj.com
SUMMARY:One Hot Mess
DESCRIPTION:
URL:https://crabbyjacksnj.com/event/one-hot-mess-12/
LOCATION:Crabby Jack’s\, 2 Broadway\, Somers Point\, NJ\, 08244
CATEGORIES:Live Music
END:VEVENT
BEGIN:VEVENT
DTSTART;TZID=America/New_York:20250620T180000
DTEND;TZID=America/New_York:20250620T210000
DTSTAMP:20260421T182838
CREATED:20250403T220841Z
LAST-MODIFIED:20250501T201727Z
UID:647-1750442400-1750453200@crabbyjacksnj.com
SUMMARY:Jazzmen
DESCRIPTION:
URL:https://crabbyjacksnj.com/event/jazzmen-2/
LOCATION:Crabby Jack’s\, 2 Broadway\, Somers Point\, NJ\, 08244
CATEGORIES:Live Music
END:VEVENT
BEGIN:VEVENT
DTSTART;TZID=America/New_York:20250619T180000
DTEND;TZID=America/New_York:20250619T210000
DTSTAMP:20260421T182838
CREATED:20250403T220841Z
LAST-MODIFIED:20250403T220841Z
UID:646-1750356000-1750366800@crabbyjacksnj.com
SUMMARY:2 Old Friends
DESCRIPTION:
URL:https://crabbyjacksnj.com/event/2-old-friends-4/
LOCATION:Crabby Jack’s\, 2 Broadway\, Somers Point\, NJ\, 08244
CATEGORIES:Live Music
END:VEVENT
BEGIN:VEVENT
DTSTART;TZID=America/New_York:20250618T180000
DTEND;TZID=America/New_York:20250618T210000
DTSTAMP:20260421T182838
CREATED:20250403T220841Z
LAST-MODIFIED:20250618T205040Z
UID:645-1750269600-1750280400@crabbyjacksnj.com
SUMMARY:Lew London
DESCRIPTION:
URL:https://crabbyjacksnj.com/event/lew-london-bob-mower-2/
LOCATION:Crabby Jack’s\, 2 Broadway\, Somers Point\, NJ\, 08244
CATEGORIES:Live Music
END:VEVENT
BEGIN:VEVENT
DTSTART;TZID=America/New_York:20250617T180000
DTEND;TZID=America/New_York:20250617T210000
DTSTAMP:20260421T182838
CREATED:20250403T220841Z
LAST-MODIFIED:20250528T190214Z
UID:644-1750183200-1750194000@crabbyjacksnj.com
SUMMARY:Don Ellsworth
DESCRIPTION:
URL:https://crabbyjacksnj.com/event/don-ellsworth/
LOCATION:Crabby Jack’s\, 2 Broadway\, Somers Point\, NJ\, 08244
CATEGORIES:Live Music
END:VEVENT
BEGIN:VEVENT
DTSTART;TZID=America/New_York:20250616T180000
DTEND;TZID=America/New_York:20250616T210000
DTSTAMP:20260421T182838
CREATED:20250403T220841Z
LAST-MODIFIED:20250403T220841Z
UID:643-1750096800-1750107600@crabbyjacksnj.com
SUMMARY:Jeff X
DESCRIPTION:
URL:https://crabbyjacksnj.com/event/jeff-x-2/
LOCATION:Crabby Jack’s\, 2 Broadway\, Somers Point\, NJ\, 08244
CATEGORIES:Live Music
END:VEVENT
BEGIN:VEVENT
DTSTART;TZID=America/New_York:20250615T180000
DTEND;TZID=America/New_York:20250615T210000
DTSTAMP:20260421T182838
CREATED:20250404T125528Z
LAST-MODIFIED:20250618T204943Z
UID:719-1750010400-1750021200@crabbyjacksnj.com
SUMMARY:Glen Eric
DESCRIPTION:
URL:https://crabbyjacksnj.com/event/bob-mower-glen-eric-12/
LOCATION:Crabby Jack’s\, 2 Broadway\, Somers Point\, NJ\, 08244
CATEGORIES:Live Music
END:VEVENT
BEGIN:VEVENT
DTSTART;TZID=America/New_York:20250614T180000
DTEND;TZID=America/New_York:20250614T210000
DTSTAMP:20260421T182838
CREATED:20250403T220826Z
LAST-MODIFIED:20250403T220826Z
UID:642-1749924000-1749934800@crabbyjacksnj.com
SUMMARY:One Hot Mess
DESCRIPTION:
URL:https://crabbyjacksnj.com/event/one-hot-mess-11/
LOCATION:Crabby Jack’s\, 2 Broadway\, Somers Point\, NJ\, 08244
CATEGORIES:Live Music
END:VEVENT
BEGIN:VEVENT
DTSTART;TZID=America/New_York:20250613T180000
DTEND;TZID=America/New_York:20250613T210000
DTSTAMP:20260421T182838
CREATED:20250403T220826Z
LAST-MODIFIED:20250403T220826Z
UID:641-1749837600-1749848400@crabbyjacksnj.com
SUMMARY:Tommy Nic
DESCRIPTION:
URL:https://crabbyjacksnj.com/event/tommy-nic-2/
LOCATION:Crabby Jack’s\, 2 Broadway\, Somers Point\, NJ\, 08244
CATEGORIES:Live Music
END:VEVENT
BEGIN:VEVENT
DTSTART;TZID=America/New_York:20250608T180000
DTEND;TZID=America/New_York:20250608T210000
DTSTAMP:20260421T182838
CREATED:20250403T220826Z
LAST-MODIFIED:20250618T205045Z
UID:640-1749405600-1749416400@crabbyjacksnj.com
SUMMARY:Glen Eric
DESCRIPTION:
URL:https://crabbyjacksnj.com/event/bob-mower-glen-eric-5/
LOCATION:Crabby Jack’s\, 2 Broadway\, Somers Point\, NJ\, 08244
CATEGORIES:Live Music
END:VEVENT
BEGIN:VEVENT
DTSTART;TZID=America/New_York:20250607T180000
DTEND;TZID=America/New_York:20250607T210000
DTSTAMP:20260421T182838
CREATED:20250403T220826Z
LAST-MODIFIED:20250403T220826Z
UID:639-1749319200-1749330000@crabbyjacksnj.com
SUMMARY:2 Old Friends
DESCRIPTION:
URL:https://crabbyjacksnj.com/event/2-old-friends-3/
LOCATION:Crabby Jack’s\, 2 Broadway\, Somers Point\, NJ\, 08244
CATEGORIES:Live Music
END:VEVENT
BEGIN:VEVENT
DTSTART;TZID=America/New_York:20250606T180000
DTEND;TZID=America/New_York:20250606T210000
DTSTAMP:20260421T182838
CREATED:20250403T220826Z
LAST-MODIFIED:20250528T190142Z
UID:638-1749232800-1749243600@crabbyjacksnj.com
SUMMARY:Floating Holidays
DESCRIPTION:
URL:https://crabbyjacksnj.com/event/floating-holidays/
LOCATION:Crabby Jack’s\, 2 Broadway\, Somers Point\, NJ\, 08244
CATEGORIES:Live Music
END:VEVENT
BEGIN:VEVENT
DTSTART;TZID=America/New_York:20250601T180000
DTEND;TZID=America/New_York:20250601T210000
DTSTAMP:20260421T182838
CREATED:20250403T220811Z
LAST-MODIFIED:20250618T205048Z
UID:637-1748800800-1748811600@crabbyjacksnj.com
SUMMARY:Glen Eric
DESCRIPTION:
URL:https://crabbyjacksnj.com/event/bob-mower-glen-eric-4/
LOCATION:Crabby Jack’s\, 2 Broadway\, Somers Point\, NJ\, 08244
CATEGORIES:Live Music
END:VEVENT
BEGIN:VEVENT
DTSTART;TZID=America/New_York:20250531T180000
DTEND;TZID=America/New_York:20250531T210000
DTSTAMP:20260421T182838
CREATED:20250403T220811Z
LAST-MODIFIED:20250403T220811Z
UID:636-1748714400-1748725200@crabbyjacksnj.com
SUMMARY:One Hot Mess
DESCRIPTION:
URL:https://crabbyjacksnj.com/event/one-hot-mess-10/
LOCATION:Crabby Jack’s\, 2 Broadway\, Somers Point\, NJ\, 08244
CATEGORIES:Live Music
END:VEVENT
BEGIN:VEVENT
DTSTART;TZID=America/New_York:20250530T180000
DTEND;TZID=America/New_York:20250530T210000
DTSTAMP:20260421T182838
CREATED:20250403T220811Z
LAST-MODIFIED:20250403T220811Z
UID:635-1748628000-1748638800@crabbyjacksnj.com
SUMMARY:One Hot Mess
DESCRIPTION:
URL:https://crabbyjacksnj.com/event/one-hot-mess-9/
LOCATION:Crabby Jack’s\, 2 Broadway\, Somers Point\, NJ\, 08244
CATEGORIES:Live Music
END:VEVENT
BEGIN:VEVENT
DTSTART;TZID=America/New_York:20250525T180000
DTEND;TZID=America/New_York:20250525T210000
DTSTAMP:20260421T182838
CREATED:20250403T220811Z
LAST-MODIFIED:20250501T201659Z
UID:634-1748196000-1748206800@crabbyjacksnj.com
SUMMARY:Jazzmen
DESCRIPTION:
URL:https://crabbyjacksnj.com/event/jazzmen/
LOCATION:Crabby Jack’s\, 2 Broadway\, Somers Point\, NJ\, 08244
CATEGORIES:Live Music
END:VEVENT
BEGIN:VEVENT
DTSTART;TZID=America/New_York:20250524T180000
DTEND;TZID=America/New_York:20250524T210000
DTSTAMP:20260421T182838
CREATED:20250403T220811Z
LAST-MODIFIED:20250403T220811Z
UID:633-1748109600-1748120400@crabbyjacksnj.com
SUMMARY:One Hot Mess
DESCRIPTION:
URL:https://crabbyjacksnj.com/event/one-hot-mess-8/
LOCATION:Crabby Jack’s\, 2 Broadway\, Somers Point\, NJ\, 08244
CATEGORIES:Live Music
END:VEVENT
BEGIN:VEVENT
DTSTART;TZID=America/New_York:20250523T180000
DTEND;TZID=America/New_York:20250523T210000
DTSTAMP:20260421T182838
CREATED:20250403T220756Z
LAST-MODIFIED:20250403T220756Z
UID:632-1748023200-1748034000@crabbyjacksnj.com
SUMMARY:One Hot Mess
DESCRIPTION:
URL:https://crabbyjacksnj.com/event/one-hot-mess-7/
LOCATION:Crabby Jack’s\, 2 Broadway\, Somers Point\, NJ\, 08244
CATEGORIES:Live Music
END:VEVENT
END:VCALENDAR