BEGIN:VCALENDAR
VERSION:2.0
PRODID:-//Crabby Jack&#039;s - ECPv6.15.20//NONSGML v1.0//EN
CALSCALE:GREGORIAN
METHOD:PUBLISH
X-WR-CALNAME:Crabby Jack&#039;s
X-ORIGINAL-URL:https://crabbyjacksnj.com
X-WR-CALDESC:Events for Crabby Jack&#039;s
REFRESH-INTERVAL;VALUE=DURATION:PT1H
X-Robots-Tag:noindex
X-PUBLISHED-TTL:PT1H
BEGIN:VTIMEZONE
TZID:America/New_York
BEGIN:DAYLIGHT
TZOFFSETFROM:-0500
TZOFFSETTO:-0400
TZNAME:EDT
DTSTART:20240310T070000
END:DAYLIGHT
BEGIN:STANDARD
TZOFFSETFROM:-0400
TZOFFSETTO:-0500
TZNAME:EST
DTSTART:20241103T060000
END:STANDARD
BEGIN:DAYLIGHT
TZOFFSETFROM:-0500
TZOFFSETTO:-0400
TZNAME:EDT
DTSTART:20250309T070000
END:DAYLIGHT
BEGIN:STANDARD
TZOFFSETFROM:-0400
TZOFFSETTO:-0500
TZNAME:EST
DTSTART:20251102T060000
END:STANDARD
BEGIN:DAYLIGHT
TZOFFSETFROM:-0500
TZOFFSETTO:-0400
TZNAME:EDT
DTSTART:20260308T070000
END:DAYLIGHT
BEGIN:STANDARD
TZOFFSETFROM:-0400
TZOFFSETTO:-0500
TZNAME:EST
DTSTART:20261101T060000
END:STANDARD
END:VTIMEZONE
BEGIN:VEVENT
DTSTART;TZID=America/New_York:20250824T130000
DTEND;TZID=America/New_York:20250824T160000
DTSTAMP:20260421T220735
CREATED:20250403T220756Z
LAST-MODIFIED:20250403T220756Z
UID:629-1756040400-1756051200@crabbyjacksnj.com
SUMMARY:Medicine Man
DESCRIPTION:
URL:https://crabbyjacksnj.com/event/medicine-man/
LOCATION:Crabby Jack’s\, 2 Broadway\, Somers Point\, NJ\, 08244
CATEGORIES:Live Music
END:VEVENT
BEGIN:VEVENT
DTSTART;TZID=America/New_York:20250823T180000
DTEND;TZID=America/New_York:20250823T210000
DTSTAMP:20260421T220735
CREATED:20250403T221156Z
LAST-MODIFIED:20250810T190420Z
UID:711-1755972000-1755982800@crabbyjacksnj.com
SUMMARY:William Klingler
DESCRIPTION:
URL:https://crabbyjacksnj.com/event/william-klingler-2/
LOCATION:Crabby Jack’s\, 2 Broadway\, Somers Point\, NJ\, 08244
CATEGORIES:Live Music
END:VEVENT
BEGIN:VEVENT
DTSTART;TZID=America/New_York:20250823T130000
DTEND;TZID=America/New_York:20250823T160000
DTSTAMP:20260421T220735
CREATED:20250403T220756Z
LAST-MODIFIED:20250403T220756Z
UID:628-1755954000-1755964800@crabbyjacksnj.com
SUMMARY:Doug Jennings
DESCRIPTION:
URL:https://crabbyjacksnj.com/event/doug-jennings-9/
LOCATION:Crabby Jack’s\, 2 Broadway\, Somers Point\, NJ\, 08244
CATEGORIES:Live Music
END:VEVENT
BEGIN:VEVENT
DTSTART;TZID=America/New_York:20250822T180000
DTEND;TZID=America/New_York:20250822T210000
DTSTAMP:20260421T220735
CREATED:20250403T221156Z
LAST-MODIFIED:20250403T221156Z
UID:710-1755885600-1755896400@crabbyjacksnj.com
SUMMARY:Jay Gentile
DESCRIPTION:
URL:https://crabbyjacksnj.com/event/jay-gentile-3/
LOCATION:Crabby Jack’s\, 2 Broadway\, Somers Point\, NJ\, 08244
CATEGORIES:Live Music
END:VEVENT
BEGIN:VEVENT
DTSTART;TZID=America/New_York:20250821T180000
DTEND;TZID=America/New_York:20250821T210000
DTSTAMP:20260421T220735
CREATED:20250403T221156Z
LAST-MODIFIED:20250403T221156Z
UID:709-1755799200-1755810000@crabbyjacksnj.com
SUMMARY:Tommy Nic
DESCRIPTION:
URL:https://crabbyjacksnj.com/event/tommy-nic-9/
LOCATION:Crabby Jack’s\, 2 Broadway\, Somers Point\, NJ\, 08244
CATEGORIES:Live Music
END:VEVENT
BEGIN:VEVENT
DTSTART;TZID=America/New_York:20250820T180000
DTEND;TZID=America/New_York:20250820T210000
DTSTAMP:20260421T220735
CREATED:20250403T221156Z
LAST-MODIFIED:20250403T221156Z
UID:708-1755712800-1755723600@crabbyjacksnj.com
SUMMARY:Jamie & The Quietmen
DESCRIPTION:
URL:https://crabbyjacksnj.com/event/jamie-the-quietmen-6/
LOCATION:Crabby Jack’s\, 2 Broadway\, Somers Point\, NJ\, 08244
CATEGORIES:Live Music
END:VEVENT
BEGIN:VEVENT
DTSTART;TZID=America/New_York:20250819T180000
DTEND;TZID=America/New_York:20250819T210000
DTSTAMP:20260421T220735
CREATED:20250403T221141Z
LAST-MODIFIED:20250403T221141Z
UID:707-1755626400-1755637200@crabbyjacksnj.com
SUMMARY:Sounds Of The Islands Steel Drums
DESCRIPTION:
URL:https://crabbyjacksnj.com/event/tropical-tuesday-steel-drums-11/
LOCATION:Crabby Jack’s\, 2 Broadway\, Somers Point\, NJ\, 08244
CATEGORIES:Live Music
END:VEVENT
BEGIN:VEVENT
DTSTART;TZID=America/New_York:20250818T180000
DTEND;TZID=America/New_York:20250818T210000
DTSTAMP:20260421T220735
CREATED:20250403T221141Z
LAST-MODIFIED:20250723T150241Z
UID:706-1755540000-1755550800@crabbyjacksnj.com
SUMMARY:Tommy Nic
DESCRIPTION:
URL:https://crabbyjacksnj.com/event/tommy-nic-12/
LOCATION:Crabby Jack’s\, 2 Broadway\, Somers Point\, NJ\, 08244
CATEGORIES:Live Music
END:VEVENT
BEGIN:VEVENT
DTSTART;TZID=America/New_York:20250817T180000
DTEND;TZID=America/New_York:20250817T210000
DTSTAMP:20260421T220735
CREATED:20250403T221141Z
LAST-MODIFIED:20250618T205713Z
UID:705-1755453600-1755464400@crabbyjacksnj.com
SUMMARY:Glen Eric & Bob Mower
DESCRIPTION:
URL:https://crabbyjacksnj.com/event/bob-mower-glen-eric-10/
LOCATION:Crabby Jack’s\, 2 Broadway\, Somers Point\, NJ\, 08244
CATEGORIES:Live Music
END:VEVENT
BEGIN:VEVENT
DTSTART;TZID=America/New_York:20250817T130000
DTEND;TZID=America/New_York:20250817T160000
DTSTAMP:20260421T220735
CREATED:20250403T220741Z
LAST-MODIFIED:20250403T220741Z
UID:627-1755435600-1755446400@crabbyjacksnj.com
SUMMARY:Chris Nickey
DESCRIPTION:
URL:https://crabbyjacksnj.com/event/chris-nickey/
LOCATION:Crabby Jack’s\, 2 Broadway\, Somers Point\, NJ\, 08244
CATEGORIES:Live Music
END:VEVENT
BEGIN:VEVENT
DTSTART;TZID=America/New_York:20250816T180000
DTEND;TZID=America/New_York:20250816T210000
DTSTAMP:20260421T220735
CREATED:20250403T221141Z
LAST-MODIFIED:20250403T221141Z
UID:704-1755367200-1755378000@crabbyjacksnj.com
SUMMARY:Cosmic Charlie
DESCRIPTION:
URL:https://crabbyjacksnj.com/event/cosmic-charlie-3/
LOCATION:Crabby Jack’s\, 2 Broadway\, Somers Point\, NJ\, 08244
CATEGORIES:Live Music
END:VEVENT
BEGIN:VEVENT
DTSTART;TZID=America/New_York:20250816T130000
DTEND;TZID=America/New_York:20250816T160000
DTSTAMP:20260421T220735
CREATED:20250403T220741Z
LAST-MODIFIED:20250403T220741Z
UID:626-1755349200-1755360000@crabbyjacksnj.com
SUMMARY:Doug Jennings
DESCRIPTION:
URL:https://crabbyjacksnj.com/event/doug-jennings-8/
LOCATION:Crabby Jack’s\, 2 Broadway\, Somers Point\, NJ\, 08244
CATEGORIES:Live Music
END:VEVENT
BEGIN:VEVENT
DTSTART;TZID=America/New_York:20250815T180000
DTEND;TZID=America/New_York:20250815T210000
DTSTAMP:20260421T220735
CREATED:20250403T221141Z
LAST-MODIFIED:20250403T221141Z
UID:703-1755280800-1755291600@crabbyjacksnj.com
SUMMARY:Jeff X
DESCRIPTION:
URL:https://crabbyjacksnj.com/event/jeff-x-9/
LOCATION:Crabby Jack’s\, 2 Broadway\, Somers Point\, NJ\, 08244
CATEGORIES:Live Music
END:VEVENT
BEGIN:VEVENT
DTSTART;TZID=America/New_York:20250814T180000
DTEND;TZID=America/New_York:20250814T210000
DTSTAMP:20260421T220735
CREATED:20250403T221127Z
LAST-MODIFIED:20250403T221127Z
UID:702-1755194400-1755205200@crabbyjacksnj.com
SUMMARY:Tommy Nic
DESCRIPTION:
URL:https://crabbyjacksnj.com/event/tommy-nic-8/
LOCATION:Crabby Jack’s\, 2 Broadway\, Somers Point\, NJ\, 08244
CATEGORIES:Live Music
END:VEVENT
BEGIN:VEVENT
DTSTART;TZID=America/New_York:20250813T180000
DTEND;TZID=America/New_York:20250813T210000
DTSTAMP:20260421T220735
CREATED:20250403T221126Z
LAST-MODIFIED:20250528T190442Z
UID:701-1755108000-1755118800@crabbyjacksnj.com
SUMMARY:Big Daddy Duo
DESCRIPTION:
URL:https://crabbyjacksnj.com/event/big-daddy-duo-3/
LOCATION:Crabby Jack’s\, 2 Broadway\, Somers Point\, NJ\, 08244
CATEGORIES:Live Music
END:VEVENT
BEGIN:VEVENT
DTSTART;TZID=America/New_York:20250812T180000
DTEND;TZID=America/New_York:20250812T210000
DTSTAMP:20260421T220735
CREATED:20250403T221126Z
LAST-MODIFIED:20250403T221126Z
UID:700-1755021600-1755032400@crabbyjacksnj.com
SUMMARY:Sounds Of The Islands Steel Drums
DESCRIPTION:
URL:https://crabbyjacksnj.com/event/tropical-tuesday-steel-drums-10/
LOCATION:Crabby Jack’s\, 2 Broadway\, Somers Point\, NJ\, 08244
CATEGORIES:Live Music
END:VEVENT
BEGIN:VEVENT
DTSTART;TZID=America/New_York:20250811T180000
DTEND;TZID=America/New_York:20250811T210000
DTSTAMP:20260421T220735
CREATED:20250403T221126Z
LAST-MODIFIED:20250403T221126Z
UID:699-1754935200-1754946000@crabbyjacksnj.com
SUMMARY:Jeff X
DESCRIPTION:
URL:https://crabbyjacksnj.com/event/jeff-x-8/
LOCATION:Crabby Jack’s\, 2 Broadway\, Somers Point\, NJ\, 08244
CATEGORIES:Live Music
END:VEVENT
BEGIN:VEVENT
DTSTART;TZID=America/New_York:20250810T180000
DTEND;TZID=America/New_York:20250810T210000
DTSTAMP:20260421T220735
CREATED:20250403T221126Z
LAST-MODIFIED:20250618T205710Z
UID:698-1754848800-1754859600@crabbyjacksnj.com
SUMMARY:Glen Eric & Bob Mower
DESCRIPTION:
URL:https://crabbyjacksnj.com/event/bob-mower-glen-eric-9/
LOCATION:Crabby Jack’s\, 2 Broadway\, Somers Point\, NJ\, 08244
CATEGORIES:Live Music
END:VEVENT
BEGIN:VEVENT
DTSTART;TZID=America/New_York:20250810T130000
DTEND;TZID=America/New_York:20250810T160000
DTSTAMP:20260421T220735
CREATED:20250403T220741Z
LAST-MODIFIED:20250403T220741Z
UID:625-1754830800-1754841600@crabbyjacksnj.com
SUMMARY:Cacy Thomas
DESCRIPTION:
URL:https://crabbyjacksnj.com/event/cacy-thomas-2/
LOCATION:Crabby Jack’s\, 2 Broadway\, Somers Point\, NJ\, 08244
CATEGORIES:Live Music
END:VEVENT
BEGIN:VEVENT
DTSTART;TZID=America/New_York:20250809T180000
DTEND;TZID=America/New_York:20250809T210000
DTSTAMP:20260421T220735
CREATED:20250403T221112Z
LAST-MODIFIED:20250403T221112Z
UID:697-1754762400-1754773200@crabbyjacksnj.com
SUMMARY:Dave Turner
DESCRIPTION:
URL:https://crabbyjacksnj.com/event/dave-turner-3/
LOCATION:Crabby Jack’s\, 2 Broadway\, Somers Point\, NJ\, 08244
CATEGORIES:Live Music
END:VEVENT
BEGIN:VEVENT
DTSTART;TZID=America/New_York:20250809T130000
DTEND;TZID=America/New_York:20250809T160000
DTSTAMP:20260421T220735
CREATED:20250403T220741Z
LAST-MODIFIED:20250403T220741Z
UID:624-1754744400-1754755200@crabbyjacksnj.com
SUMMARY:Doug Jennings
DESCRIPTION:
URL:https://crabbyjacksnj.com/event/doug-jennings-7/
LOCATION:Crabby Jack’s\, 2 Broadway\, Somers Point\, NJ\, 08244
CATEGORIES:Live Music
END:VEVENT
BEGIN:VEVENT
DTSTART;TZID=America/New_York:20250808T180000
DTEND;TZID=America/New_York:20250808T210000
DTSTAMP:20260421T220735
CREATED:20250403T221111Z
LAST-MODIFIED:20250403T221111Z
UID:696-1754676000-1754686800@crabbyjacksnj.com
SUMMARY:Head Above Water
DESCRIPTION:
URL:https://crabbyjacksnj.com/event/head-above-water-2/
LOCATION:Crabby Jack’s\, 2 Broadway\, Somers Point\, NJ\, 08244
CATEGORIES:Live Music
END:VEVENT
BEGIN:VEVENT
DTSTART;TZID=America/New_York:20250807T180000
DTEND;TZID=America/New_York:20250807T210000
DTSTAMP:20260421T220735
CREATED:20250403T221111Z
LAST-MODIFIED:20250403T221111Z
UID:695-1754589600-1754600400@crabbyjacksnj.com
SUMMARY:Dave Turner
DESCRIPTION:
URL:https://crabbyjacksnj.com/event/dave-turner-2/
LOCATION:Crabby Jack’s\, 2 Broadway\, Somers Point\, NJ\, 08244
CATEGORIES:Live Music
END:VEVENT
BEGIN:VEVENT
DTSTART;TZID=America/New_York:20250806T180000
DTEND;TZID=America/New_York:20250806T210000
DTSTAMP:20260421T220735
CREATED:20250403T221111Z
LAST-MODIFIED:20250403T221111Z
UID:694-1754503200-1754514000@crabbyjacksnj.com
SUMMARY:Dave Turner
DESCRIPTION:
URL:https://crabbyjacksnj.com/event/dave-turner/
LOCATION:Crabby Jack’s\, 2 Broadway\, Somers Point\, NJ\, 08244
CATEGORIES:Live Music
END:VEVENT
BEGIN:VEVENT
DTSTART;TZID=America/New_York:20250805T180000
DTEND;TZID=America/New_York:20250805T210000
DTSTAMP:20260421T220735
CREATED:20250403T221111Z
LAST-MODIFIED:20250403T221111Z
UID:693-1754416800-1754427600@crabbyjacksnj.com
SUMMARY:Sounds Of The Islands Steel Drums
DESCRIPTION:
URL:https://crabbyjacksnj.com/event/tropical-tuesday-steel-drums-9/
LOCATION:Crabby Jack’s\, 2 Broadway\, Somers Point\, NJ\, 08244
CATEGORIES:Live Music
END:VEVENT
BEGIN:VEVENT
DTSTART;TZID=America/New_York:20250804T180000
DTEND;TZID=America/New_York:20250804T210000
DTSTAMP:20260421T220735
CREATED:20250403T221056Z
LAST-MODIFIED:20250501T201828Z
UID:692-1754330400-1754341200@crabbyjacksnj.com
SUMMARY:John Rodden
DESCRIPTION:
URL:https://crabbyjacksnj.com/event/john-rodden/
LOCATION:Crabby Jack’s\, 2 Broadway\, Somers Point\, NJ\, 08244
CATEGORIES:Live Music
END:VEVENT
BEGIN:VEVENT
DTSTART;TZID=America/New_York:20250803T180000
DTEND;TZID=America/New_York:20250803T210000
DTSTAMP:20260421T220735
CREATED:20250403T221056Z
LAST-MODIFIED:20250729T191542Z
UID:691-1754244000-1754254800@crabbyjacksnj.com
SUMMARY:Jazzmen
DESCRIPTION:
URL:https://crabbyjacksnj.com/event/jazzmen-4/
LOCATION:Crabby Jack’s\, 2 Broadway\, Somers Point\, NJ\, 08244
CATEGORIES:Live Music
END:VEVENT
BEGIN:VEVENT
DTSTART;TZID=America/New_York:20250803T140000
DTEND;TZID=America/New_York:20250803T170000
DTSTAMP:20260421T220735
CREATED:20250403T220741Z
LAST-MODIFIED:20250729T191525Z
UID:623-1754229600-1754240400@crabbyjacksnj.com
SUMMARY:Bob Mower and Glen Eric
DESCRIPTION:
URL:https://crabbyjacksnj.com/event/bob-mower-and-glen-eric/
LOCATION:Crabby Jack’s\, 2 Broadway\, Somers Point\, NJ\, 08244
CATEGORIES:Live Music
END:VEVENT
BEGIN:VEVENT
DTSTART;TZID=America/New_York:20250802T180000
DTEND;TZID=America/New_York:20250802T210000
DTSTAMP:20260421T220735
CREATED:20250403T221056Z
LAST-MODIFIED:20250403T221056Z
UID:690-1754157600-1754168400@crabbyjacksnj.com
SUMMARY:Head Above Water
DESCRIPTION:
URL:https://crabbyjacksnj.com/event/head-above-water/
LOCATION:Crabby Jack’s\, 2 Broadway\, Somers Point\, NJ\, 08244
CATEGORIES:Live Music
END:VEVENT
BEGIN:VEVENT
DTSTART;TZID=America/New_York:20250802T130000
DTEND;TZID=America/New_York:20250802T160000
DTSTAMP:20260421T220735
CREATED:20250403T220726Z
LAST-MODIFIED:20250709T174947Z
UID:617-1754139600-1754150400@crabbyjacksnj.com
SUMMARY:William Klingler
DESCRIPTION:
URL:https://crabbyjacksnj.com/event/william-klingler/
LOCATION:Crabby Jack’s\, 2 Broadway\, Somers Point\, NJ\, 08244
CATEGORIES:Live Music
END:VEVENT
END:VCALENDAR