BEGIN:VCALENDAR
VERSION:2.0
PRODID:-//Crabby Jack&#039;s - ECPv6.15.20//NONSGML v1.0//EN
CALSCALE:GREGORIAN
METHOD:PUBLISH
X-ORIGINAL-URL:https://crabbyjacksnj.com
X-WR-CALDESC:Events for Crabby Jack&#039;s
REFRESH-INTERVAL;VALUE=DURATION:PT1H
X-Robots-Tag:noindex
X-PUBLISHED-TTL:PT1H
BEGIN:VTIMEZONE
TZID:America/New_York
BEGIN:DAYLIGHT
TZOFFSETFROM:-0500
TZOFFSETTO:-0400
TZNAME:EDT
DTSTART:20240310T070000
END:DAYLIGHT
BEGIN:STANDARD
TZOFFSETFROM:-0400
TZOFFSETTO:-0500
TZNAME:EST
DTSTART:20241103T060000
END:STANDARD
BEGIN:DAYLIGHT
TZOFFSETFROM:-0500
TZOFFSETTO:-0400
TZNAME:EDT
DTSTART:20250309T070000
END:DAYLIGHT
BEGIN:STANDARD
TZOFFSETFROM:-0400
TZOFFSETTO:-0500
TZNAME:EST
DTSTART:20251102T060000
END:STANDARD
BEGIN:DAYLIGHT
TZOFFSETFROM:-0500
TZOFFSETTO:-0400
TZNAME:EDT
DTSTART:20260308T070000
END:DAYLIGHT
BEGIN:STANDARD
TZOFFSETFROM:-0400
TZOFFSETTO:-0500
TZNAME:EST
DTSTART:20261101T060000
END:STANDARD
BEGIN:DAYLIGHT
TZOFFSETFROM:-0500
TZOFFSETTO:-0400
TZNAME:EDT
DTSTART:20270314T070000
END:DAYLIGHT
BEGIN:STANDARD
TZOFFSETFROM:-0400
TZOFFSETTO:-0500
TZNAME:EST
DTSTART:20271107T060000
END:STANDARD
END:VTIMEZONE
BEGIN:VEVENT
DTSTART;TZID=America/New_York:20250826T180000
DTEND;TZID=America/New_York:20250826T210000
DTSTAMP:20260421T210426
CREATED:20250403T221211Z
LAST-MODIFIED:20250403T221211Z
UID:714-1756231200-1756242000@crabbyjacksnj.com
SUMMARY:Sounds Of The Islands Steel Drums
DESCRIPTION:
URL:https://crabbyjacksnj.com/event/tropical-tuesday-steel-drums-12/
LOCATION:Crabby Jack’s\, 2 Broadway\, Somers Point\, NJ\, 08244
CATEGORIES:Live Music
END:VEVENT
BEGIN:VEVENT
DTSTART;TZID=America/New_York:20250827T180000
DTEND;TZID=America/New_York:20250827T210000
DTSTAMP:20260421T210426
CREATED:20250403T221211Z
LAST-MODIFIED:20250528T190447Z
UID:715-1756317600-1756328400@crabbyjacksnj.com
SUMMARY:Big Daddy Duo
DESCRIPTION:
URL:https://crabbyjacksnj.com/event/big-daddy-duo-4/
LOCATION:Crabby Jack’s\, 2 Broadway\, Somers Point\, NJ\, 08244
CATEGORIES:Live Music
END:VEVENT
BEGIN:VEVENT
DTSTART;TZID=America/New_York:20250828T180000
DTEND;TZID=America/New_York:20250828T210000
DTSTAMP:20260421T210426
CREATED:20250403T221211Z
LAST-MODIFIED:20250403T221211Z
UID:716-1756404000-1756414800@crabbyjacksnj.com
SUMMARY:Tommy Nic
DESCRIPTION:
URL:https://crabbyjacksnj.com/event/tommy-nic-10/
LOCATION:Crabby Jack’s\, 2 Broadway\, Somers Point\, NJ\, 08244
CATEGORIES:Live Music
END:VEVENT
BEGIN:VEVENT
DTSTART;TZID=America/New_York:20250829T180000
DTEND;TZID=America/New_York:20250829T210000
DTSTAMP:20260421T210426
CREATED:20250403T221212Z
LAST-MODIFIED:20250403T221212Z
UID:717-1756490400-1756501200@crabbyjacksnj.com
SUMMARY:Jeff X
DESCRIPTION:
URL:https://crabbyjacksnj.com/event/jeff-x-11/
LOCATION:Crabby Jack’s\, 2 Broadway\, Somers Point\, NJ\, 08244
CATEGORIES:Live Music
END:VEVENT
BEGIN:VEVENT
DTSTART;TZID=America/New_York:20250830T130000
DTEND;TZID=America/New_York:20250830T160000
DTSTAMP:20260421T210426
CREATED:20250529T151902Z
LAST-MODIFIED:20250529T151902Z
UID:778-1756558800-1756569600@crabbyjacksnj.com
SUMMARY:Doug Jennings
DESCRIPTION:
URL:https://crabbyjacksnj.com/event/doug-jennings-10/
LOCATION:Crabby Jack’s\, 2 Broadway\, Somers Point\, NJ\, 08244
CATEGORIES:Live Music
END:VEVENT
BEGIN:VEVENT
DTSTART;TZID=America/New_York:20250830T180000
DTEND;TZID=America/New_York:20250830T210000
DTSTAMP:20260421T210426
CREATED:20250403T220756Z
LAST-MODIFIED:20250529T151819Z
UID:630-1756576800-1756587600@crabbyjacksnj.com
SUMMARY:Cosmic Charlie
DESCRIPTION:
URL:https://crabbyjacksnj.com/event/cosmic-charlie-4/
LOCATION:Crabby Jack’s\, 2 Broadway\, Somers Point\, NJ\, 08244
CATEGORIES:Live Music
END:VEVENT
BEGIN:VEVENT
DTSTART;TZID=America/New_York:20250831T130000
DTEND;TZID=America/New_York:20250831T160000
DTSTAMP:20260421T210426
CREATED:20250529T151938Z
LAST-MODIFIED:20250529T151938Z
UID:780-1756645200-1756656000@crabbyjacksnj.com
SUMMARY:Jamie & The Quietmen
DESCRIPTION:
URL:https://crabbyjacksnj.com/event/jamie-the-quietmen/
LOCATION:Crabby Jack’s\, 2 Broadway\, Somers Point\, NJ\, 08244
CATEGORIES:Live Music
END:VEVENT
BEGIN:VEVENT
DTSTART;TZID=America/New_York:20250831T180000
DTEND;TZID=America/New_York:20250831T210000
DTSTAMP:20260421T210426
CREATED:20250403T220756Z
LAST-MODIFIED:20250618T205719Z
UID:631-1756663200-1756674000@crabbyjacksnj.com
SUMMARY:Glen Eric & Bob Mower
DESCRIPTION:
URL:https://crabbyjacksnj.com/event/bob-mower-glen-eric-13/
LOCATION:Crabby Jack’s\, 2 Broadway\, Somers Point\, NJ\, 08244
CATEGORIES:Live Music
END:VEVENT
BEGIN:VEVENT
DTSTART;TZID=America/New_York:20260522T180000
DTEND;TZID=America/New_York:20260522T210000
DTSTAMP:20260421T210426
CREATED:20260409T202711Z
LAST-MODIFIED:20260409T202711Z
UID:831-1779472800-1779483600@crabbyjacksnj.com
SUMMARY:Doug Jennings
DESCRIPTION:
URL:https://crabbyjacksnj.com/event/doug-jennings-11/
LOCATION:Crabby Jack’s\, 2 Broadway\, Somers Point\, NJ\, 08244
CATEGORIES:Live Music
END:VEVENT
BEGIN:VEVENT
DTSTART;TZID=America/New_York:20260523T180000
DTEND;TZID=America/New_York:20260523T210000
DTSTAMP:20260421T210426
CREATED:20260409T202711Z
LAST-MODIFIED:20260409T202711Z
UID:832-1779559200-1779570000@crabbyjacksnj.com
SUMMARY:Mike Gibbons
DESCRIPTION:
URL:https://crabbyjacksnj.com/event/mike-gibbons/
LOCATION:Crabby Jack’s\, 2 Broadway\, Somers Point\, NJ\, 08244
CATEGORIES:Live Music
END:VEVENT
BEGIN:VEVENT
DTSTART;TZID=America/New_York:20260524T180000
DTEND;TZID=America/New_York:20260524T210000
DTSTAMP:20260421T210426
CREATED:20260409T202711Z
LAST-MODIFIED:20260409T202711Z
UID:833-1779645600-1779656400@crabbyjacksnj.com
SUMMARY:Doug Jennings
DESCRIPTION:
URL:https://crabbyjacksnj.com/event/doug-jennings-12/
LOCATION:Crabby Jack’s\, 2 Broadway\, Somers Point\, NJ\, 08244
CATEGORIES:Live Music
END:VEVENT
BEGIN:VEVENT
DTSTART;TZID=America/New_York:20260525T130000
DTEND;TZID=America/New_York:20260525T160000
DTSTAMP:20260421T210426
CREATED:20260409T202711Z
LAST-MODIFIED:20260409T202738Z
UID:834-1779714000-1779724800@crabbyjacksnj.com
SUMMARY:Jazzmen
DESCRIPTION:
URL:https://crabbyjacksnj.com/event/jazzmen-1-4-pm/
LOCATION:Crabby Jack’s\, 2 Broadway\, Somers Point\, NJ\, 08244
CATEGORIES:Live Music
END:VEVENT
BEGIN:VEVENT
DTSTART;TZID=America/New_York:20260529T180000
DTEND;TZID=America/New_York:20260529T210000
DTSTAMP:20260421T210426
CREATED:20260409T202712Z
LAST-MODIFIED:20260409T202712Z
UID:835-1780077600-1780088400@crabbyjacksnj.com
SUMMARY:Chris Lax
DESCRIPTION:
URL:https://crabbyjacksnj.com/event/chris-lax/
LOCATION:Crabby Jack’s\, 2 Broadway\, Somers Point\, NJ\, 08244
CATEGORIES:Live Music
END:VEVENT
BEGIN:VEVENT
DTSTART;TZID=America/New_York:20260530T180000
DTEND;TZID=America/New_York:20260530T210000
DTSTAMP:20260421T210426
CREATED:20260409T202714Z
LAST-MODIFIED:20260409T202714Z
UID:836-1780164000-1780174800@crabbyjacksnj.com
SUMMARY:Chris Lax
DESCRIPTION:
URL:https://crabbyjacksnj.com/event/chris-lax-2/
LOCATION:Crabby Jack’s\, 2 Broadway\, Somers Point\, NJ\, 08244
CATEGORIES:Live Music
END:VEVENT
BEGIN:VEVENT
DTSTART;TZID=America/New_York:20260531T150000
DTEND;TZID=America/New_York:20260531T180000
DTSTAMP:20260421T210426
CREATED:20260409T202714Z
LAST-MODIFIED:20260409T202714Z
UID:837-1780239600-1780250400@crabbyjacksnj.com
SUMMARY:Charlie Wigo IV
DESCRIPTION:
URL:https://crabbyjacksnj.com/event/charlie-wigo-iv/
LOCATION:Crabby Jack’s\, 2 Broadway\, Somers Point\, NJ\, 08244
CATEGORIES:Live Music
END:VEVENT
END:VCALENDAR